BEGIN:VCALENDAR
VERSION:2.0
PRODID:-//Kansas 911 Coordinating Council - ECPv4.6.19//NONSGML v1.0//EN
CALSCALE:GREGORIAN
METHOD:PUBLISH
X-WR-CALNAME:Kansas 911 Coordinating Council
X-ORIGINAL-URL:http://www.kansas911.org
X-WR-CALDESC:Events for Kansas 911 Coordinating Council
BEGIN:VEVENT
DTSTART;VALUE=DATE:20180528
DTEND;VALUE=DATE:20180529
DTSTAMP:20180626T225952
CREATED:20171215T031101Z
LAST-MODIFIED:20171215T031101Z
UID:6081-1527465600-1527551999@www.kansas911.org
SUMMARY:Memorial Day
DESCRIPTION:The Kansas 911 Coordinating Council will be closed today in observance of Memorial Day. \nThank you to those who made the ultimate sacrifice! \n
URL:http://www.kansas911.org/kansas911_calendar/memorial-day/
ATTACH;FMTTYPE=image/jpeg:http://www.kansas911.org/wp-content/uploads/2017/12/Memorial-Day-Images.jpg
END:VEVENT
BEGIN:VEVENT
DTSTART;TZID=America/Chicago:20180605T100000
DTEND;TZID=America/Chicago:20180605T160000
DTSTAMP:20180626T225952
CREATED:20180509T143146Z
LAST-MODIFIED:20180509T143533Z
UID:6424-1528192800-1528214400@www.kansas911.org
SUMMARY:NG911 GIS Data Steward and Data Maintainer Certification Class
DESCRIPTION:
URL:http://www.kansas911.org/kansas911_calendar/ng911-gis-data-steward-and-data-maintainer-certification-class-2/
LOCATION:415 Lyman Dr\, Hays\, KS\, 67601
CATEGORIES:GIS
ORGANIZER;CN="Sherry%20Massey":MAILTO:GISTech@kansas911.org
END:VEVENT
BEGIN:VEVENT
DTSTART;TZID=America/Chicago:20180608T110000
DTEND;TZID=America/Chicago:20180608T130000
DTSTAMP:20180626T225952
CREATED:20180503T163216Z
LAST-MODIFIED:20180605T160635Z
UID:6465-1528455600-1528462800@www.kansas911.org
SUMMARY:Kansas 911 Coordinating Council Meeting
DESCRIPTION:The Kansas 911 Coordinating Council Meeting for June 8th\, 2018 will be by conference call \nPlease Join\n• Meeting Wall: https://www.startmeeting.com/wall/912-550-374\n• US Toll Number: (518) 530-1840\n• MeetingID: 912-550-374 \nInstructions:\n• At the scheduled date and time of the meeting\, dial into the conference line.\n• When prompted\, enter the meeting ID\, followed by the pound key.\n• To join the online meeting\, click on the meeting link listed above\, then press “Join”.\n• On the next page\, complete your name and email address\, then press “Submit”.\n• The system will guide you through the process of downloading the meeting dashboard to participate in the online meeting. \nhttp://www.kansas911.org/wp-content/uploads/2018/06/Council-Meeting-Handouts-06082018.pdf \n
URL:http://www.kansas911.org/kansas911_calendar/kansas-911-coordinating-council-meeting-2/
LOCATION:KS
CATEGORIES:Council Meeting
ATTACH;FMTTYPE=image/png:http://www.kansas911.org/wp-content/uploads/2017/07/Header-Logo.png
END:VEVENT
BEGIN:VEVENT
DTSTART;VALUE=DATE:20180614
DTEND;VALUE=DATE:20180616
DTSTAMP:20180626T225952
CREATED:20171215T042623Z
LAST-MODIFIED:20171215T042623Z
UID:6121-1528934400-1529107199@www.kansas911.org
SUMMARY:NASNA Meeting
DESCRIPTION:
URL:http://www.kansas911.org/kansas911_calendar/nasna-meeting/
LOCATION:201 5th Ave S\, Nashville\, Tennessee\, 37203
ATTACH;FMTTYPE=image/jpeg:http://www.kansas911.org/wp-content/uploads/2017/12/nasna.jpg
END:VEVENT
BEGIN:VEVENT
DTSTART;VALUE=DATE:20180616
DTEND;VALUE=DATE:20180622
DTSTAMP:20180626T225952
CREATED:20171215T041549Z
LAST-MODIFIED:20171215T041619Z
UID:6111-1529107200-1529625599@www.kansas911.org
SUMMARY:NENA 2018 Conference and Expo
DESCRIPTION:NENA 2018 is the can’t-miss event for today’s 9-1-1 professional who wants to stay ahead of the curve and gain practical skills and knowledge that yield immediate results. NENA’s annual conference equips you with great ideas for overcoming the obstacles you and your team face every day\, provides you with expert insights about what the future holds for 9-1-1\, and prepares you to take the next step in your career. But that’s not all. NENA 2018 provides unparalleled opportunities for you to connect with your peers and discover how they’re addressing the same challenges you’re facing. \nFeaturing inspiring keynote speakers\, more than ninety hours of training sessions that inform and empower\, career-building courses and workshops with real-world applications\, nightly networking activities that help you make the right connections\, and an Expo Hall brimming with cutting-edge products and services\, NENA 2018 is the must-attend public safety event of the year. Don’t miss your chance to be a part of it! \n
URL:http://www.kansas911.org/kansas911_calendar/nena-2018-conference-and-expo/
LOCATION:201 5th Ave S\, Nashville\, Tennessee\, 37203
ATTACH;FMTTYPE=image/jpeg:http://www.kansas911.org/wp-content/uploads/2017/12/NENA.jpg
END:VEVENT
BEGIN:VEVENT
DTSTART;TZID=America/Chicago:20180622T100000
DTEND;TZID=America/Chicago:20180622T110000
DTSTAMP:20180626T225952
CREATED:20180613T140717Z
LAST-MODIFIED:20180613T140717Z
UID:6563-1529661600-1529665200@www.kansas911.org
SUMMARY:Kansas 911 Coordinating Council Meeting
DESCRIPTION:The Kansas 911 Coordinating Council Meeting has call for a special meeting for June 22nd\, 2018 and will be by conference call \nPlease Join\n• Meeting Wall: https://www.startmeeting.com/wall/912-550-374\n• US Toll Number: (518) 530-1840\n• MeetingID: 912-550-374 \nInstructions:\n• At the scheduled date and time of the meeting\, dial into the conference line.\n• When prompted\, enter the meeting ID\, followed by the pound key.\n• To join the online meeting\, click on the meeting link listed above\, then press “Join”.\n• On the next page\, complete your name and email address\, then press “Submit”.\n• The system will guide you through the process of downloading the meeting dashboard to participate in the online meeting. \nhttp://www.kansas911.org/wp-content/uploads/2018/06/Council-Meeting-Handouts-06082018.pdf \n
URL:http://www.kansas911.org/kansas911_calendar/kansas-911-coordinating-council-meeting-2-2/
LOCATION:KS
CATEGORIES:Council Meeting
ATTACH;FMTTYPE=image/png:http://www.kansas911.org/wp-content/uploads/2017/07/Header-Logo.png
END:VEVENT
END:VCALENDAR